BEGIN:VCALENDAR
PRODID:-//Det Danske Spejderkorps//NONSGML Gruppeweb//EN
VERSION:2.0
CALSCALE:GREGORIAN
X-PUBLISHED-TTL:PT1H
X-WR-CALNAME:Egeskov Division
METHOD:PUBLISH
BEGIN:VEVENT
UID:gruppeweb.dk:4300:event:36
DTSTAMP:20260420T064551Z
LAST-MODIFIED:20241125T100305Z
SUMMARY:Divisionsrådsmøde
DESCRIPTION:\n
URL:https://egeskovdivision.dk/begivenhed/divisionsraadsmoede
DTSTART:20250426T080000Z
DTEND:20250426T110000Z
LOCATION:Egeskov Division
END:VEVENT
BEGIN:VEVENT
UID:gruppeweb.dk:4300:event:61
DTSTAMP:20260420T064551Z
LAST-MODIFIED:20250402T095927Z
SUMMARY:Divisionsrådsmøde og Mini -uddannelsesmarked
DESCRIPTION:Divisionsrådsmøde starter kl. 10:00 \n\nEfter frokost afhold
 er vi et ”mini-uddannelsesmarked” med indslag om knob  \n& tovværk og
  kulsø-pionering.\nUdover et fagligt indhold er det tanken\, at der samti
 dig bliver tid til at  \nnetværke og small-talke (gode\ndanske ord) for d
 e deltagende ledere.\nInden vi kører hjem bliver der en håndmad to grap 
 & go.\n\nAf hensyn til forplejning beder vi om tilmelding senest d. 20/4\n
 \n
URL:https://egeskovdivision.dk/begivenhed/divisionsraadsmoede-og-mini-uddan
 nelsesmarked
DTSTART:20250426T080000Z
DTEND:20250426T180000Z
LOCATION:Rething-Gruppe\, Svendborgvej 87\, 5750 Ringe
END:VEVENT
BEGIN:VEVENT
UID:gruppeweb.dk:4300:event:45
DTSTAMP:20260420T064551Z
LAST-MODIFIED:20241125T100301Z
SUMMARY:FaMikMin dag
DESCRIPTION:\n
URL:https://egeskovdivision.dk/begivenhed/famikmin-dag-0
DTSTART;VALUE=DATE:20250510
LOCATION:Egeskov Division
END:VEVENT
BEGIN:VEVENT
UID:gruppeweb.dk:4300:event:57
DTSTAMP:20260420T064551Z
LAST-MODIFIED:20250506T173437Z
SUMMARY:Divisionsturnering
DESCRIPTION:Vi skal endnu engang afsted på divisionsturnering! Så pak ryg
 sækken fuld  \naf snacks\, lejrudstyr\, godt humør og vær klar på en w
 eekend fyldt med  \nmassere af fede spejderoplevelser\, bålrøg og gode k
 ammeratskaber!\n\n\nVed spørgsmål Loco/Sebastian kontaktes på mail:  \n
 Sebastian99hillbrandt@gmail.com eller telefon: 22 72 82 12\n\n
URL:https://egeskovdivision.dk/begivenhed/divisionsturnering
DTSTART:20250516T160000Z
DTEND:20250518T100000Z
LOCATION:Thurøbund spejdercenter\, Grastenvej 204C\, 5700 Svendborg
END:VEVENT
BEGIN:VEVENT
UID:gruppeweb.dk:4300:event:37
DTSTAMP:20260420T064551Z
LAST-MODIFIED:20241125T100812Z
SUMMARY:Grøndalsmarch
DESCRIPTION:\n
URL:https://egeskovdivision.dk/begivenhed/groendalsmarch
DTSTART;VALUE=DATE:20250529
LOCATION:Egeskov Division
END:VEVENT
BEGIN:VEVENT
UID:gruppeweb.dk:4300:event:65
DTSTAMP:20260420T064551Z
LAST-MODIFIED:20260204T182916Z
SUMMARY:Divisionsrådsmøde 2026
DESCRIPTION:\n
URL:https://egeskovdivision.dk/begivenhed/divisionsraadsmoede-2026
DTSTART:20260418T080000Z
DTEND:20260418T100000Z
LOCATION:Grøndalsgruppen\, Kappendrupvej 2\, 5550 Langeskov
END:VEVENT
BEGIN:VEVENT
UID:gruppeweb.dk:4300:event:64
DTSTAMP:20260420T064551Z
LAST-MODIFIED:20260204T182917Z
SUMMARY:Udviklingsdag
DESCRIPTION:\n
URL:https://egeskovdivision.dk/begivenhed/udviklingsdag
DTSTART:20260418T100000Z
DTEND:20260418T130000Z
LOCATION:Grøndalsgruppen\, Kappendrupvej 2\, 5550 Langeskov
END:VEVENT
BEGIN:VEVENT
UID:gruppeweb.dk:4300:event:68
DTSTAMP:20260420T064551Z
LAST-MODIFIED:20260204T182917Z
SUMMARY:Spejdernes Dag
DESCRIPTION:
URL:https://egeskovdivision.dk/begivenhed/spejdernes-dag
DTSTART;VALUE=DATE:20260509
LOCATION:
END:VEVENT
BEGIN:VEVENT
UID:gruppeweb.dk:4300:event:70
DTSTAMP:20260420T064551Z
LAST-MODIFIED:20260413T193354Z
SUMMARY:Divisionsturnering 2026
DESCRIPTION:Vi skal endnu engang afsted på divisionsturnering! Så pak ryg
 sækken fuld  \naf snacks\, lejrudstyr\, godt humør og vær klar på en w
 eekend fyldt med  \nmassere af fede spejderoplevelser\, bålrøg og gode k
 ammeratskaber!Ved  \nspørgsmål Loco/Sebastian kontaktes på mail:  \nSeb
 astian99hillbrandt@gmail.com eller telefon: 22 72 82 12\n\n
URL:https://egeskovdivision.dk/begivenhed/divisionsturnering-2026
DTSTART:20260529T160000Z
DTEND:20260531T100000Z
LOCATION:Danehofhytten\, Kappendrupvej 25B\, 5550 Langeskov
END:VEVENT
BEGIN:VEVENT
UID:gruppeweb.dk:4300:event:67
DTSTAMP:20260420T064551Z
LAST-MODIFIED:20260204T182914Z
SUMMARY:Fællesledermøde
DESCRIPTION:\n
URL:https://egeskovdivision.dk/begivenhed/faellesledermoede
DTSTART:20260922T163000Z
DTEND:20260922T193000Z
LOCATION:Danehofhytten\, Kappendrupvej 25B\, 5550 Langeskov
END:VEVENT
END:VCALENDAR
